View In:
ArcGIS JavaScript
ArcGIS Online Map Viewer
ArcGIS Earth
ArcMap
View Footprint In:
ArcGIS Online Map Viewer
Service Description: mosaics/Cook_County_bedrock_topography
Name: mosaics/Cook_County_bedrock_topography
Description:
Single Fused Map Cache: false
Extent:
XMin: 646290
YMin: 5258730
XMax: 734880
YMax: 5345820
Spatial Reference: 26915
(26915)
VCSWkid(105703)
LatestVCSWkid(6360)
Initial Extent:
XMin: 646290
YMin: 5258730
XMax: 734880
YMax: 5345820
Spatial Reference: 26915
(26915)
VCSWkid(105703)
LatestVCSWkid(6360)
Full Extent:
XMin: 646290
YMin: 5258730
XMax: 734880
YMax: 5345820
Spatial Reference: 26915
(26915)
VCSWkid(105703)
LatestVCSWkid(6360)
Pixel Size X: 30.0
Pixel Size Y: 30.0
Band Count: 1
Pixel Type: F32
RasterFunction Infos: {"rasterFunctionInfos": [{
"name": "None",
"description": "",
"help": ""
}]}
Mensuration Capabilities: Basic
Has Histograms: true
Has Colormap: false
Has Multi Dimensions : false
Rendering Rule:
Min Scale: 0
Max Scale: 0
Copyright Text:
Service Data Type: esriImageServiceDataTypeGeneric
Min Values: 464.01019287109
Max Values: 2294.9699707031
Mean Values: 1637.3321487399
Standard Deviation Values: 277.27488189034
Object ID Field:
Fields:
None
Default Mosaic Method: Center
Allowed Mosaic Methods:
SortField:
SortValue: null
Mosaic Operator: First
Default Compression Quality: 75
Default Resampling Method: Bilinear
Max Record Count: null
Max Image Height: 4100
Max Image Width: 15000
Max Download Image Count: null
Max Mosaic Image Count: null
Allow Raster Function: true
Allow Copy: true
Allow Analysis: true
Allow Compute TiePoints: false
Supports Statistics: false
Supports Advanced Queries: false
Use StandardizedQueries: true
Raster Type Infos:
Name: Raster Dataset
Description: Supports all ArcGIS Raster Datasets
Help:
Has Raster Attribute Table: false
Edit Fields Info: null
Ownership Based AccessControl For Rasters: null
Child Resources:
Info
Histograms
Statistics
Key Properties
Legend
Raster Function Infos
Supported Operations:
Export Image
Identify
Measure
Compute Histograms
Compute Statistics Histograms
Get Samples
Compute Class Statistics
Query Boundary
Compute Pixel Location
Compute Angles
Validate
Project