View In:
ArcGIS JavaScript
ArcGIS Online Map Viewer
ArcGIS Earth
ArcMap
View Footprint In:
ArcGIS Online Map Viewer
Service Description: Depth to bedrock. A raster showing the depth to the bedrock surface (thickness of Quaternary glacial sediments from the land surface, in feet, across the state of Minnesota and includes that part of Minnesota that lies in the western part of the Lake Superior basin. The bedrock surface is an erosional surface comprised of Cretaceous (Mesozoic) rocks and sediments, Paleozoic rocks, and Precambrian rocks. Certain Tribal Nations have elected not to be included in this state wide dataset and the Minnesota Geological Survey is respecting those wishes. Counties updated in the 2025 version are Dakota, Lincoln, Pipestone, Lac Qui Parle and Yellow Medicine.
Name: mosaics/D_03_Depth_to_Bedrock_2025
Description: Depth to bedrock. A raster showing the depth to the bedrock surface (thickness of Quaternary glacial sediments from the land surface, in feet, across the state of Minnesota and includes that part of Minnesota that lies in the western part of the Lake Superior basin. The bedrock surface is an erosional surface comprised of Cretaceous (Mesozoic) rocks and sediments, Paleozoic rocks, and Precambrian rocks. Certain Tribal Nations have elected not to be included in this state wide dataset and the Minnesota Geological Survey is respecting those wishes. Counties updated in the 2025 version are Dakota, Lincoln, Pipestone, Lac Qui Parle and Yellow Medicine.
Single Fused Map Cache: false
Extent:
XMin: -95639.25659155083
YMin: 4651938.486366077
XMax: 1140067.314637651
YMax: 5518532.055910345
Spatial Reference: 26915
(26915)
VCSWkid(115702)
LatestVCSWkid(115702)
Initial Extent:
XMin: -95639.25659155083
YMin: 4651938.486366077
XMax: 1140067.314637651
YMax: 5518532.055910345
Spatial Reference: 26915
(26915)
VCSWkid(115702)
LatestVCSWkid(115702)
Full Extent:
XMin: -95639.25659155083
YMin: 4651938.486366077
XMax: 1140067.314637651
YMax: 5518532.055910345
Spatial Reference: 26915
(26915)
VCSWkid(115702)
LatestVCSWkid(115702)
Pixel Size X: 29.99943121626573
Pixel Size Y: 29.99943121626572
Band Count: 1
Pixel Type: F32
RasterFunction Infos: {"rasterFunctionInfos": [{
"name": "None",
"description": "",
"help": ""
}]}
Mensuration Capabilities: Basic
Has Histograms: true
Has Colormap: false
Has Multi Dimensions : false
Rendering Rule:
Min Scale: 0
Max Scale: 0
Copyright Text: Minnesota Geological Survey
Service Data Type: esriImageServiceDataTypeGeneric
Min Values: 0
Max Values: 2527.7939453125
Mean Values: 243.86052096932
Standard Deviation Values: 214.56756398756
Object ID Field:
Fields:
None
Default Mosaic Method: Center
Allowed Mosaic Methods:
SortField:
SortValue: null
Mosaic Operator: First
Default Compression Quality: 75
Default Resampling Method: Bilinear
Max Record Count: null
Max Image Height: 4100
Max Image Width: 15000
Max Download Image Count: null
Max Mosaic Image Count: null
Allow Raster Function: true
Allow Copy: true
Allow Analysis: true
Allow Compute TiePoints: false
Supports Statistics: false
Supports Advanced Queries: false
Use StandardizedQueries: true
Raster Type Infos:
Name: Raster Dataset
Description: Supports all ArcGIS Raster Datasets
Help:
Has Raster Attribute Table: false
Edit Fields Info: null
Ownership Based AccessControl For Rasters: null
Child Resources:
Info
Histograms
Statistics
Key Properties
Legend
Raster Function Infos
Supported Operations:
Export Image
Identify
Measure
Compute Histograms
Compute Statistics Histograms
Get Samples
Compute Class Statistics
Query Boundary
Compute Pixel Location
Compute Angles
Validate
Project